BEGIN:VCALENDAR
VERSION:2.0
PRODID:-//wp-events-plugin.com//7.2.3.1//EN
TZID:Europe/Berlin
X-WR-TIMEZONE:Europe/Berlin
BEGIN:VEVENT
UID:219@skiclub-hermeskeil.de
DTSTART;TZID=Europe/Berlin:20260514T100000
DTEND;TZID=Europe/Berlin:20260514T180000
DTSTAMP:20260422T191339Z
URL:https://skiclub-hermeskeil.de/events/vatertagswanderung-4/
SUMMARY:Vatertagswanderung
DESCRIPTION:Am 14. Mai findet wieder unsere Vatertagswanderung für die gan
 ze Familie statt.\nDazu treffen wir uns um 10:00 am Mehrgenerationenhaus.\
 nDort werden wir geschlossen an der BiVi Wanderung teilnehmen.
LOCATION:Mehrgenerationenhaus\, Martinusstraße 5A\, Hermeskeil\, 54411\, D
 eutschland
X-APPLE-STRUCTURED-LOCATION;VALUE=URI;X-ADDRESS=Martinusstraße 5A\, Hermes
 keil\, 54411\, Deutschland;X-APPLE-RADIUS=100;X-TITLE=Mehrgenerationenhaus
 :geo:0,0
END:VEVENT
BEGIN:VTIMEZONE
TZID:Europe/Berlin
X-LIC-LOCATION:Europe/Berlin
BEGIN:DAYLIGHT
DTSTART:20260329T030000
TZOFFSETFROM:+0100
TZOFFSETTO:+0200
TZNAME:CEST
END:DAYLIGHT
END:VTIMEZONE
END:VCALENDAR